BEGIN:VCALENDAR
VERSION:2.0
PRODID:-//Soroptimist Europe - ECPv6.15.11//NONSGML v1.0//EN
CALSCALE:GREGORIAN
METHOD:PUBLISH
X-ORIGINAL-URL:https://www.soroptimisteurope.org
X-WR-CALDESC:Events for Soroptimist Europe
REFRESH-INTERVAL;VALUE=DURATION:PT1H
X-Robots-Tag:noindex
X-PUBLISHED-TTL:PT1H
BEGIN:VTIMEZONE
TZID:Europe/Zurich
BEGIN:DAYLIGHT
TZOFFSETFROM:+0100
TZOFFSETTO:+0200
TZNAME:CEST
DTSTART:20250330T010000
END:DAYLIGHT
BEGIN:STANDARD
TZOFFSETFROM:+0200
TZOFFSETTO:+0100
TZNAME:CET
DTSTART:20251026T010000
END:STANDARD
BEGIN:DAYLIGHT
TZOFFSETFROM:+0100
TZOFFSETTO:+0200
TZNAME:CEST
DTSTART:20260329T010000
END:DAYLIGHT
BEGIN:STANDARD
TZOFFSETFROM:+0200
TZOFFSETTO:+0100
TZNAME:CET
DTSTART:20261025T010000
END:STANDARD
BEGIN:DAYLIGHT
TZOFFSETFROM:+0100
TZOFFSETTO:+0200
TZNAME:CEST
DTSTART:20270328T010000
END:DAYLIGHT
BEGIN:STANDARD
TZOFFSETFROM:+0200
TZOFFSETTO:+0100
TZNAME:CET
DTSTART:20271031T010000
END:STANDARD
END:VTIMEZONE
BEGIN:VEVENT
DTSTART;VALUE=DATE:20261009
DTEND;VALUE=DATE:20261012
DTSTAMP:20260420T130614
CREATED:20260226T094326Z
LAST-MODIFIED:20260303T160050Z
UID:52525-1791504000-1791763199@www.soroptimisteurope.org
SUMMARY:SI Kraków - 30th Anniversary (Poland)
DESCRIPTION:SI Club Kraków will be celebrating its 30th anniversary  9 – 11th  October 2026. \n  \nYOU CAN ALREADY REGISTER FOR OUR 30th anniversary! COME TO KRAKÓW IN OCTOBER TO CELEBRTE WITH US! \nRegister through: https://form.jotform.com/260344353384052 \n  \nPROGRAMME \nFriday\, 19:00 – Club Pod Jaszczurami\, Rynek 8. Fingerfood dinner (seated)\, bluegrass and blues music by a group led by our Club Member Krystyna Święcicka – Wójcik https://www.radiokrakow.pl/…/krysia-swiecicka-wojcik…/ Be ready to join us in dancing! \nSaturday \n10:00 : official celebrations\, place to be announced later \n15:00 – leave to visit the spectacular attraction: UNESCO World Heritage site Wieliczka Salt Mine\, we will start with guided tour and seated dinner in one the salty chambers afterwards. \nSunday\, 10:00: coffee in one of the local cafes\, guided city tour of Kraków in English\, French and German. \n  \nRECOMMENDED ACCOMMODATION \nAntiques apartments; get in touch by e-mail booking@aapt.pl or phone: +48 664 332 422. Everyone who makes a booking by the end of April and mentions Soroptimist will receive a 20% discount. To see apartments go to: aapt.pl They all are in a distance of 3 – 10 minutes walk from the Main Square. Cost of acommodation to be paid directly to aapt.pl \nThe cost of attendance is €220 and is to be paid to Krakow SI Club bank account: PL77 1940 1076 3024 9253 0013 0000 Bank name: CREDIT AGRICOLE BANK POLSKA S.A. Account holder: Soroptimist Club Kraków\, title: anniversary.— szczęśliwy(a). \n  \nFor queries get in touch with: Anna Wszelaczyńska finanseifaktury@gmail.com or Katarzyna Brykowicz kbrykowicz@onet.pl
URL:https://www.soroptimisteurope.org/event/si-krakow-30th-anniversary-poland/
CATEGORIES:Anniversary
ATTACH;FMTTYPE=image/png:https://www.soroptimisteurope.org/wp-content/uploads/2025/10/krakow-3-1.png
END:VEVENT
BEGIN:VEVENT
DTSTART;VALUE=DATE:20261024
DTEND;VALUE=DATE:20261026
DTSTAMP:20260420T130614
CREATED:20260119T075148Z
LAST-MODIFIED:20260119T075148Z
UID:52153-1792800000-1792972799@www.soroptimisteurope.org
SUMMARY:Governors' Meeting 2026
DESCRIPTION:The next Governors’ Meeting will be held on 24-25 October 2026 in Riga\, Latvia\, at the Radisson Blu Latvija Hotel. \n  \nMore information in due time.
URL:https://www.soroptimisteurope.org/event/governors-meeting-2026/
CATEGORIES:Meeting
ATTACH;FMTTYPE=image/avif:https://www.soroptimisteurope.org/wp-content/uploads/2026/01/Radisson-Blu-Hotel.avif
END:VEVENT
END:VCALENDAR